BEGIN:VCALENDAR
VERSION:2.0
PRODID:-//chikkutakku.com//RDFCal 1.0//EN
X-WR-CALDESC:GoogleカレンダーやiCalendar形式情報を共有シェ
 アしましょう。近所のイベントから全国のイベントま
 で今日のイベント検索やスケジュールを決めるならち
 っくたっく
X-WR-CALNAME:ちっくたっく
X-WR-TIMEZONE:UTC
BEGIN:VEVENT
SUMMARY:都立大学 ジャミン / ジャムセッション
DTSTART;VALUE=DATE-TIME:20260510T103000Z
DTEND;VALUE=DATE-TIME:20260510T140000Z
UID:287061745335
DESCRIPTION:グレース柿の木坂2F \n03-5731-5336\n2700YEN\n平山サ
 ンペイ惠勇\,drums 楠直孝\,piano グレッグ・リー\,bass\nhttp:
 //www.jammin-meguro.sakura.ne.jp/
LOCATION:Ｊａｍｍｉｎ\, 日本、〒152-0022 東京都目黒区柿
 の木坂１丁目３０−１９
END:VEVENT
END:VCALENDAR
