BEGIN:VCALENDAR
VERSION:2.0
PRODID:-//chikkutakku.com//RDFCal 1.0//EN
X-WR-CALDESC:GoogleカレンダーやiCalendar形式情報を共有シェ
 アしましょう。近所のイベントから全国のイベントま
 で今日のイベント検索やスケジュールを決めるならち
 っくたっく
X-WR-CALNAME:ちっくたっく
X-WR-TIMEZONE:UTC
BEGIN:VEVENT
SUMMARY:彼女、お借りします(5) #51 「終わりの彼女-オワカ
 ノ-」
DTSTART;VALUE=DATE-TIME:20260424T165300Z
DTEND;VALUE=DATE-TIME:20260424T172300Z
UID:287074518671
DESCRIPTION:51 / 終わりの彼女-オワカノ- / 
LOCATION:TBS
END:VEVENT
END:VCALENDAR
