BEGIN:VCALENDAR
VERSION:2.0
PRODID:-//chikkutakku.com//RDFCal 1.0//EN
X-WR-CALDESC:GoogleカレンダーやiCalendar形式情報を共有シェ
 アしましょう。近所のイベントから全国のイベントま
 で今日のイベント検索やスケジュールを決めるならち
 っくたっく
X-WR-CALNAME:ちっくたっく
X-WR-TIMEZONE:UTC
BEGIN:VEVENT
SUMMARY:「専修」【松田】　ニュアンスを伝える
DTSTART;VALUE=DATE-TIME:20260422T073500Z
DTEND;VALUE=DATE-TIME:20260422T093500Z
UID:287289373654
DESCRIPTION:「専修」【松田】　ニュアンスを伝える
LOCATION:
END:VEVENT
END:VCALENDAR
