BEGIN:VCALENDAR
VERSION:2.0
PRODID:-//chikkutakku.com//RDFCal 1.0//EN
X-WR-CALDESC:GoogleカレンダーやiCalendar形式情報を共有シェ
 アしましょう。近所のイベントから全国のイベントま
 で今日のイベント検索やスケジュールを決めるならち
 っくたっく
X-WR-CALNAME:ちっくたっく
X-WR-TIMEZONE:UTC
BEGIN:VEVENT
SUMMARY:「白雪姫と7人の恋人」という18禁乙女ゲーヒロイ
 ンに転生してしまった俺が全力で王子達から逃げる話
 （上）
DTSTART;VALUE=DATE:20260521
DTEND;VALUE=DATE:20260522
UID:287489419897
DESCRIPTION:2026-05-22「白雪姫と7人の恋人」という18禁乙女
 ゲーヒロインに転生してしまった俺が全力で王子達か
 ら逃げる話（上）沖野うに/踊る毒林檎一迅社
LOCATION:
END:VEVENT
END:VCALENDAR
