BEGIN:VCALENDAR
VERSION:2.0
PRODID:-//chikkutakku.com//RDFCal 1.0//EN
X-WR-CALDESC:GoogleカレンダーやiCalendar形式情報を共有シェ
 アしましょう。近所のイベントから全国のイベントま
 で今日のイベント検索やスケジュールを決めるならち
 っくたっく
X-WR-CALNAME:ちっくたっく
X-WR-TIMEZONE:UTC
BEGIN:VEVENT
SUMMARY:Registration for student council opens & Announcement of Student C
 ouncil President Candidates
DTSTART;VALUE=DATE:20260519
DTEND;VALUE=DATE:20260520
UID:288042130506
DESCRIPTION:Registration for student council opens & Announcement of Stude
 nt Council President Candidates
LOCATION:
END:VEVENT
END:VCALENDAR
