BEGIN:VCALENDAR
VERSION:2.0
PRODID:-//chikkutakku.com//RDFCal 1.0//EN
X-WR-CALDESC:GoogleカレンダーやiCalendar形式情報を共有シェ
 アしましょう。近所のイベントから全国のイベントま
 で今日のイベント検索やスケジュールを決めるならち
 っくたっく
X-WR-CALNAME:ちっくたっく
X-WR-TIMEZONE:UTC
BEGIN:VEVENT
SUMMARY:もう二度と人間関係に悩まなくなる『菜根譚』
DTSTART;VALUE=DATE:20260513
DTEND;VALUE=DATE:20260514
UID:288194814790
DESCRIPTION:2026-05-14もう二度と人間関係に悩まなくなる『
 菜根譚』山口 謠司三笠書房
LOCATION:
END:VEVENT
END:VCALENDAR
