BEGIN:VCALENDAR
VERSION:2.0
PRODID:-//chikkutakku.com//RDFCal 1.0//EN
X-WR-CALDESC:GoogleカレンダーやiCalendar形式情報を共有シェ
 アしましょう。近所のイベントから全国のイベントま
 で今日のイベント検索やスケジュールを決めるならち
 っくたっく
X-WR-CALNAME:ちっくたっく
X-WR-TIMEZONE:UTC
BEGIN:VEVENT
SUMMARY:悪役令嬢なので、溺愛なんていりません！2
DTSTART;VALUE=DATE:20260501
DTEND;VALUE=DATE:20260502
UID:288490535422
DESCRIPTION:2026-05-02悪役令嬢なので、溺愛なんていりませ
 ん！2美依/氷堂れん一迅社
LOCATION:
END:VEVENT
END:VCALENDAR
