BEGIN:VCALENDAR
VERSION:2.0
PRODID:-//chikkutakku.com//RDFCal 1.0//EN
X-WR-CALDESC:GoogleカレンダーやiCalendar形式情報を共有シェ
 アしましょう。近所のイベントから全国のイベントま
 で今日のイベント検索やスケジュールを決めるならち
 っくたっく
X-WR-CALNAME:ちっくたっく
X-WR-TIMEZONE:UTC
BEGIN:VEVENT
SUMMARY:East AKL Interschool Chess Championships- Sanober
DTSTART;VALUE=DATE-TIME:20260519T210000Z
DTEND;VALUE=DATE-TIME:20260520T023000Z
UID:289312645709
DESCRIPTION:East AKL Interschool Chess Championships- Sanober
LOCATION:Point View Primary
END:VEVENT
END:VCALENDAR
