BEGIN:VCALENDAR
VERSION:2.0
PRODID:-//chikkutakku.com//RDFCal 1.0//EN
X-WR-CALDESC:GoogleカレンダーやiCalendar形式情報を共有シェ
 アしましょう。近所のイベントから全国のイベントま
 で今日のイベント検索やスケジュールを決めるならち
 っくたっく
X-WR-CALNAME:ちっくたっく
X-WR-TIMEZONE:UTC
BEGIN:VEVENT
SUMMARY:岡崎 BURNY
DTSTART;VALUE=DATE-TIME:20260506T090000Z
DTEND;VALUE=DATE-TIME:20260506T140000Z
UID:289461713038
DESCRIPTION:5/6（祝）岡崎 BURNY\nオープンマイクに参加\n〒4
 44-0057 愛知県岡崎市材木町1丁目18\n第一高木ビル 3階\n070
 -3830-7980\n公式サイト: burny-live-bar.com
LOCATION:
END:VEVENT
END:VCALENDAR
