BEGIN:VCALENDAR
VERSION:2.0
PRODID:-//chikkutakku.com//RDFCal 1.0//EN
X-WR-CALDESC:GoogleカレンダーやiCalendar形式情報を共有シェ
 アしましょう。近所のイベントから全国のイベントま
 で今日のイベント検索やスケジュールを決めるならち
 っくたっく
X-WR-CALNAME:ちっくたっく
X-WR-TIMEZONE:UTC
BEGIN:VEVENT
SUMMARY:社會情緒學習講座-【有些感受，其實需要被看見
 】禪繞畫x情緒表達(小港)
DTSTART;VALUE=DATE-TIME:20260505T110000Z
DTEND;VALUE=DATE-TIME:20260505T130000Z
UID:289705334705
DESCRIPTION:社會情緒學習講座-【有些感受，其實需要被看
 見】禪繞畫x情緒表達(小港)
LOCATION:
END:VEVENT
END:VCALENDAR
