BEGIN:VCALENDAR
VERSION:2.0
PRODID:-//chikkutakku.com//RDFCal 1.0//EN
X-WR-CALDESC:GoogleカレンダーやiCalendar形式情報を共有シェ
 アしましょう。近所のイベントから全国のイベントま
 で今日のイベント検索やスケジュールを決めるならち
 っくたっく
X-WR-CALNAME:ちっくたっく
X-WR-TIMEZONE:UTC
BEGIN:VEVENT
SUMMARY:【Android 対応】bar_callPanther
DTSTART;VALUE=DATE-TIME:20260424T120000Z
DTEND;VALUE=DATE-TIME:20260424T140000Z
UID:289910379598
DESCRIPTION:【イベント主催者】\n　黒豹\n【イベント内容
 】\n　当店では黒豹達が\n厳選したテーマ\n（例：好き
 な音楽/おすすめの衣装/惚気/恋バナ など）\nをきっか
 けに、\n隣り合ったお客様同士が\n自然と会話を楽しめ
 る\n“交流の場”をご提供します。\n【イベントジャン
 ル】\n　その他交流会\, VR飲み会\, 店舗系イベント\, 初
 心者向けイベント\, 定期イベント\n【参加条件（モデル
 、人数制限など）】\n　【禁止事項】 \n重いアバター(50
 MB以上)\n権利版アバター・ダウンロード \nアバターで音
 声流す行為・過酷なパーティクル\n無許可での録画・録
 音・動画プレイヤーをいじる行為\n上記の事項を守れな
 い場合は、\nワールドから退室していただく事がござい
 ます。\nキャストさん達を傷つける振る舞いがあった場
 合\nその時点で「閉店」です。\n大切な「影」を守るた
 め例外は認めません。\n【参加方法】\n　bar_callPantherの
 グループから参加お願いいたします\n【備考】\n　​小
 さなお店だからこその親密な距離感で\nあなたの夜をよ
 り豊かにする\n一期一会の出会いを見つけてみませんか
 。
LOCATION:
END:VEVENT
END:VCALENDAR
