BEGIN:VCALENDAR
VERSION:2.0
PRODID:-//chikkutakku.com//RDFCal 1.0//EN
X-WR-CALDESC:GoogleカレンダーやiCalendar形式情報を共有シェ
 アしましょう。近所のイベントから全国のイベントま
 で今日のイベント検索やスケジュールを決めるならち
 っくたっく
X-WR-CALNAME:ちっくたっく
X-WR-TIMEZONE:UTC
BEGIN:VEVENT
SUMMARY:June K +4 ( ) W/C trail w/ Anisa
DTSTART;VALUE=DATE-TIME:20260426T200000Z
DTEND;VALUE=DATE-TIME:20260426T213000Z
UID:290251135214
DESCRIPTION:June - 5'6" and 160lb\nJackii - 5'5" and 138lb\nSasha - 5'7" a
 nd 128lb\nDiya - 5'6"
LOCATION:
END:VEVENT
END:VCALENDAR
