BEGIN:VCALENDAR
VERSION:2.0
PRODID:-//chikkutakku.com//RDFCal 1.0//EN
X-WR-CALDESC:GoogleカレンダーやiCalendar形式情報を共有シェ
 アしましょう。近所のイベントから全国のイベントま
 で今日のイベント検索やスケジュールを決めるならち
 っくたっく
X-WR-CALNAME:ちっくたっく
X-WR-TIMEZONE:UTC
BEGIN:VEVENT
SUMMARY:【一撃絶命剣戟バトルロワイヤル】ゲームワール
 ド 剣戟メイズ集会v2
DTSTART;VALUE=DATE-TIME:20260425T124500Z
DTEND;VALUE=DATE-TIME:20260425T140000Z
UID:290289053536
DESCRIPTION:【イベント主催者】\n　ヤマダ1\n【イベント内
 容】\n　ランダム生成迷路を舞台に、足音を頼りに敵を
 探し、ガード＆一撃決着で戦うPvP剣術ゲームの集会で
 す。1回のゲーム時間は10分。初回は22:00スタートで、23:
 00までに計4回開催されます。\n【イベントジャンル】\n
 　その他交流会\, 定期イベント\n【参加条件（モデル、
 人数制限など）】\n　- PCVR専用です \n- 最大参加人数：2
 4人 \n- ワールド内にあるパブリックアバター、または
 「イクサキット」導入済みアバターで参加可能です。\n
 \n【アバターパフォーマンス規定】\n▼必須（満たさな
 いと参加不可）\nダウンロードサイズ：80MB未満\nテクス
 チャメモリ：150MB未満\nマテリアルスロット：60未満\nス
 キンドメッシュ：50未満\nMaxParticles：8000未満\nParticlesシ
 ステム：30未満\n最大ポリゴン：40万未満\nアバターライ
 ト：1以下\n\n▼推奨（満たさなくても参加可）\nダウン
 ロードサイズ：25MB以下\nテクスチャメモリ：90MB以下\n
 マテリアルスロット：32以下\n【参加方法】\n　- 事前に
 以下グループへ参加（https://vrc.group/SOUL66.3306） \n- 21˸45
 分頃にGroup＋インスタンスにJOINǃ \n- 初心者の方にはガ
 イドをしますので21˸45にお越しください\n【備考】\n　
 専用アバターギミック：イクサキット\nhttps://8ya.booth.pm/
 items/5945340\n\n【禁止行為】\n- アニメーション等で、プ
 レイヤーの身体動作と無関係に攻撃判定が動く仕組み
 （回転刃、飛び道具など）\n- 他プレイヤーの視界を妨
 害、または自分の身体動作を見えにくくして読み合い
 を不当に崩す仕組み（巨大なエフェクト/視界ジャック/
 巨大なオブジェクトなど）\n- 武器の形状とかけ離れた
 位置に攻撃判定を配置する行為\n- コライダージャンプ
 、移動ツールなどの使用
LOCATION:
END:VEVENT
END:VCALENDAR
