BEGIN:VCALENDAR
VERSION:2.0
PRODID:-//chikkutakku.com//RDFCal 1.0//EN
X-WR-CALDESC:GoogleカレンダーやiCalendar形式情報を共有シェ
 アしましょう。近所のイベントから全国のイベントま
 で今日のイベント検索やスケジュールを決めるならち
 っくたっく
X-WR-CALNAME:ちっくたっく
X-WR-TIMEZONE:UTC
BEGIN:VEVENT
SUMMARY:音楽ライブ～night bambi～
DTSTART;VALUE=DATE-TIME:20260428T132000Z
DTEND;VALUE=DATE-TIME:20260428T144000Z
UID:290485742636
DESCRIPTION:【イベント主催者】\n　のな～め\n【イベント
 内容】\n　一夜限りの百鬼夜行音楽ライブ！\n何気ない
 一言から始まったバンビエッタの生誕祭が、今ここに
 ───！\n\n音響やカメラワーク、もちろん歌にもこだ
 わったライブをお楽しみください。\n【イベントジャン
 ル】\n　音楽系イベント\n【参加条件（モデル、人数制
 限など）】\n　【禁止事項】\n・配信/録画行為\n・公序
 良俗に反する改変アバター/1.3m以上のアバター/過度な
 パーティクル/容量30MB以上のアバター\n・イベント外で
 の付きまとい行為及び連絡行為\n・イベントの進行を妨
 げる行為\n・主催やスタッフへのフレンド申請/嫌がら
 せ行為\n・ユーザー間でのトラブルについて、当イベン
 トは一切の責任を負いません。\n【参加方法】\n　夜行
 バンビのグループインスタンスに加入\n定刻になったら
 インスタンスに参加\n↓グループはこちら↓\nhttps://vrcha
 t.com/home/group/grp_87aef5f9-508f-4254-94bb-6d29d0469b6c\n【備考】\n
 　
LOCATION:
END:VEVENT
END:VCALENDAR
