BEGIN:VCALENDAR
VERSION:2.0
PRODID:-//chikkutakku.com//RDFCal 1.0//EN
X-WR-CALDESC:GoogleカレンダーやiCalendar形式情報を共有シェ
 アしましょう。近所のイベントから全国のイベントま
 で今日のイベント検索やスケジュールを決めるならち
 っくたっく
X-WR-CALNAME:ちっくたっく
X-WR-TIMEZONE:UTC
BEGIN:VEVENT
SUMMARY:【DJイベント】StrayBeatz ep.30
DTSTART;VALUE=DATE-TIME:20260426T120000Z
DTEND;VALUE=DATE-TIME:20260426T145900Z
UID:290687381386
DESCRIPTION:【イベント主催者】\n　あしゅみ/ナツサギ/ふ
 ぇれす/めるらて/ミー/きりまる\n【イベント内容】\n　
 自由に音楽を追求するオールジャンルDJイベントです！
 \nDJイベントが好きな方はもちろん、イベント初参加の
 方や、音楽を聴きながらお喋りしたい方、音楽を通じ
 てフレンドを作りたい方にも、楽しんでもらえるよう
 な空間を提供します！\nみんなで素敵な時間を過ごしま
 しょう～！\n【イベントジャンル】\n　音楽系イベント\
 , 初心者向けイベント\n【参加条件（モデル、人数制限
 など）】\n　画面ジャック・過度なパーティクル・大き
 な音の出るアバターなど公序良俗に反するアバターの
 使用は禁止です。\n無許可での録音・録画・配信行為は
 禁止です。（写真撮影はOK）\n【参加方法】\n　Group＋で
 開催します。「SERA.0980」グループで検索、もしくは次
 のURLからグループに参加して来場してください！\nURL: h
 ttps://vrc.group/SERA.0980\n【備考】\n　公式X: https://x.com/strayb
 eatz\n#straybeatz_vrc
LOCATION:
END:VEVENT
END:VCALENDAR
