BEGIN:VCALENDAR
VERSION:2.0
PRODID:-//chikkutakku.com//RDFCal 1.0//EN
X-WR-CALDESC:GoogleカレンダーやiCalendar形式情報を共有シェ
 アしましょう。近所のイベントから全国のイベントま
 で今日のイベント検索やスケジュールを決めるならち
 っくたっく
X-WR-CALNAME:ちっくたっく
X-WR-TIMEZONE:UTC
BEGIN:VEVENT
SUMMARY:(รองฯเจริญ)เชิญร่วมงานป
 ระชุมโครงการบริหารจัดการ
 การรับและเตรียมความพร้อม
 แพทย์เพื่อเพิ่มพูนทักษะเ
 พื่อปฏิบัติงาน รพ.สต.เฉลิม
 พระเกียรติ60พรรษา นวมินทรา
 ชินี
DTSTART;VALUE=DATE-TIME:20260426T223000Z
DTEND;VALUE=DATE-TIME:20260427T113000Z
UID:291236629770
DESCRIPTION:(รองฯเจริญ)เชิญร่วมงาน
 ประชุมโครงการบริหารจัดกา
 รการรับและเตรียมความพร้อ
 มแพทย์เพื่อเพิ่มพูนทักษะ
 เพื่อปฏิบัติงาน รพ.สต.เฉลิ
 มพระเกียรติ60พรรษา นวมินทร
 าชินี
LOCATION:ณ รร.เซ็นทารา ไลฟ์ ศูนย์
 ราชการและคอนเวนชันเซ็นเต
 อร์ แจ้งวัฒนะ หลักสี่ กทม.
END:VEVENT
END:VCALENDAR
