BEGIN:VCALENDAR
VERSION:2.0
PRODID:-//chikkutakku.com//RDFCal 1.0//EN
X-WR-CALDESC:GoogleカレンダーやiCalendar形式情報を共有シェ
 アしましょう。近所のイベントから全国のイベントま
 で今日のイベント検索やスケジュールを決めるならち
 っくたっく
X-WR-CALNAME:ちっくたっく
X-WR-TIMEZONE:UTC
BEGIN:VEVENT
SUMMARY:A川口 初心者クラス8 吹野（ルンバ①全部、タン
 ゴ①全部）
DTSTART;VALUE=DATE-TIME:20260425T093000Z
DTEND;VALUE=DATE-TIME:20260425T110000Z
UID:291322766513
DESCRIPTION:ステップ名＆動画\nルンバ①全部：https://danceci
 rclej.com/index.php?go=fsG2cs\nタンゴ①全部：https://dancecirclej.c
 om/index.php?go=UBHurF
LOCATION:タキガワダンススクール川口
END:VEVENT
END:VCALENDAR
