BEGIN:VCALENDAR
VERSION:2.0
PRODID:-//chikkutakku.com//RDFCal 1.0//EN
X-WR-CALDESC:GoogleカレンダーやiCalendar形式情報を共有シェ
 アしましょう。近所のイベントから全国のイベントま
 で今日のイベント検索やスケジュールを決めるならち
 っくたっく
X-WR-CALNAME:ちっくたっく
X-WR-TIMEZONE:UTC
BEGIN:VEVENT
SUMMARY:父の逝きざま 末期がんの父を自宅で看取るまで
DTSTART;VALUE=DATE:20260429
DTEND;VALUE=DATE:20260430
UID:291569980189
DESCRIPTION:2026-04-30父の逝きざま 末期がんの父を自宅で看
 取るまでうつみ さえ白泉社
LOCATION:
END:VEVENT
END:VCALENDAR
