BEGIN:VCALENDAR
VERSION:2.0
PRODID:-//chikkutakku.com//RDFCal 1.0//EN
X-WR-CALDESC:GoogleカレンダーやiCalendar形式情報を共有シェ
 アしましょう。近所のイベントから全国のイベントま
 で今日のイベント検索やスケジュールを決めるならち
 っくたっく
X-WR-CALNAME:ちっくたっく
X-WR-TIMEZONE:UTC
BEGIN:VEVENT
SUMMARY:廃妃は夜な夜な奇を談る 悠国後宮志異
DTSTART;VALUE=DATE:20260519
DTEND;VALUE=DATE:20260520
UID:291706371550
DESCRIPTION:2026-05-20廃妃は夜な夜な奇を談る 悠国後宮志異
 夕鷺 かのう/七原 しえ集英社
LOCATION:
END:VEVENT
END:VCALENDAR
