BEGIN:VCALENDAR
VERSION:2.0
PRODID:-//chikkutakku.com//RDFCal 1.0//EN
X-WR-CALDESC:GoogleカレンダーやiCalendar形式情報を共有シェ
 アしましょう。近所のイベントから全国のイベントま
 で今日のイベント検索やスケジュールを決めるならち
 っくたっく
X-WR-CALNAME:ちっくたっく
X-WR-TIMEZONE:UTC
BEGIN:VEVENT
SUMMARY:Cafe LUMINOUS
DTSTART;VALUE=DATE-TIME:20260423T140000Z
DTEND;VALUE=DATE-TIME:20260423T145900Z
UID:292304818241
DESCRIPTION:【イベント主催者】\n　nana778\n【イベント内容
 】\n　作業、雑談ご自由にお使いください\n【イベント
 ジャンル】\n　改変アバター交流会\, その他交流会\, VR
 飲み会\, 店舗系イベント\, 初心者向けイベント\, 定期
 イベント\n【参加条件（モデル、人数制限など）】\n　
 モラルがある方ならどなたでもどうぞ\n【参加方法】\n
 　CafeLUMINOUSグループ申請\nグループインスタンスにjoin\n
 【備考】\n　皆様のご来店心よりお待ちしております！
 ！
LOCATION:
END:VEVENT
END:VCALENDAR
