BEGIN:VCALENDAR
VERSION:2.0
PRODID:-//chikkutakku.com//RDFCal 1.0//EN
X-WR-CALDESC:GoogleカレンダーやiCalendar形式情報を共有シェ
 アしましょう。近所のイベントから全国のイベントま
 で今日のイベント検索やスケジュールを決めるならち
 っくたっく
X-WR-CALNAME:ちっくたっく
X-WR-TIMEZONE:UTC
BEGIN:VEVENT
SUMMARY:【考察×接客】「異変観測技研へようこそ-異変遭
 遇編-」
DTSTART;VALUE=DATE-TIME:20260509T130000Z
DTEND;VALUE=DATE-TIME:20260509T140000Z
UID:292528659930
DESCRIPTION:【イベント主催者】\n　描缶OG\n【イベント内
 容】\n　■接客中に何かが起こる…考察×接客イベント
 です。初心者の方も大歓迎！\n※イベント中に異変が発
 生する可能性があります。\n※以下要素を含んでいます
 。\n・警報音\n・閉所・暗所\n・至近距離\n\n■【世界観
 概要】\n『異変観測技研』——現実・仮想空間で発生す
 る“異変”の処理を行う会社。\nこのたび、VRC上での異
 変に対応するためにVRC部を新設！\nその創設を記念して
 、異変観測技研の接客体験イベントを開催します。\n\n
 優しい先輩職員との会話を通して、あなたも異変観測
 技研の世界を体験してみませんか？\nぜひ私たちと共に
 、未知の異変へ立ち向かいましょう。\n\n■本イベント
 は二部構成です：\n異変遭遇編（無料）：VRChat内での接
 客体験イベント\n真相解明編（有料）：支援者限定で展
 開されるVRCと現実を行き来するARG型推理ゲーム\n\n・第
 三者への口外・ネタバレ行為は禁止です。\n\n\n公式X：h
 ttps://x.com/ZITTE_nazo\nタグ：#異変観測技研へようこそ\n【
 イベントジャンル】\n　ロールプレイ\, 定期イベント\n
 【参加条件（モデル、人数制限など）】\n　・PCVR＆デ
 スクトップ\n・日本語でVC（ボイスチャット）ができる
 事。\n【参加方法】\n　①「描缶OG」にフレンド申請\n②
 当日21：55になったら該当の「描缶OG」にリクイン！\n【
 備考】\n　詳細は公式アカウントをご確認ください。\n
 公式アカウント：@ZITTE_nazo
LOCATION:
END:VEVENT
END:VCALENDAR
