BEGIN:VCALENDAR
VERSION:2.0
PRODID:-//chikkutakku.com//RDFCal 1.0//EN
X-WR-CALDESC:GoogleカレンダーやiCalendar形式情報を共有シェ
 アしましょう。近所のイベントから全国のイベントま
 で今日のイベント検索やスケジュールを決めるならち
 っくたっく
X-WR-CALNAME:ちっくたっく
X-WR-TIMEZONE:UTC
BEGIN:VEVENT
SUMMARY:ThREEさんの～木めぐり展～
DTSTART;VALUE=DATE:20260429
DTEND;VALUE=DATE:20260506
UID:292679096573
DESCRIPTION:木のアクセサリーからまな板やカッティング
 ボード、ストラップやアロマグッズなどの作家さんのTh
 REEさん。毎年この時期に大好評の展示会とワークショ
 ップ（ワークショップイベントは5/4日(月)のみ予約優先
 制）を開催決定！お気に入りの一点モノに出会えるチ
 ャンスです！開催期間中、何度も通って
LOCATION:ギフト雑貨・木のおもちゃデポー（ＤＥＰＯＴ
 ）\, 日本、〒770-8051 徳島県徳島市沖浜町南開３３０−
 １
END:VEVENT
END:VCALENDAR
