BEGIN:VCALENDAR
VERSION:2.0
PRODID:-//chikkutakku.com//RDFCal 1.0//EN
X-WR-CALDESC:GoogleカレンダーやiCalendar形式情報を共有シェ
 アしましょう。近所のイベントから全国のイベントま
 で今日のイベント検索やスケジュールを決めるならち
 っくたっく
X-WR-CALNAME:ちっくたっく
X-WR-TIMEZONE:UTC
BEGIN:VEVENT
SUMMARY:福科國中技藝教育課程(餐旅職群)
DTSTART;VALUE=DATE-TIME:20260521T045000Z
DTEND;VALUE=DATE-TIME:20260521T073000Z
UID:292826079757
DESCRIPTION:福科國中技藝教育課程(餐旅職群)\n‧上課地點
 ：中餐教室\n‧上課時間：星期四下午12:50~3：30\n‧上課
 日期：(共13次)\n  115/2/26\n  115/3/5、3/12、3/19、\n  115/4/2
 、4/9、4/16、4/23、4/30\n  115/5/07  、5/21、5/28\n  115/6/4\n‧
 任課老師：陳建宏老師\n\n通过 Google Meet 加入：https://meet
 .google.com/sus-ozzi-zre\n或者拨打以下号码：(US) +1 929-324-2112 
 PIN 码： 436877475#\n\n如需详细了解 Google Meet，请访问：http
 s://support.google.com/a/users/answer/9282720
LOCATION:中餐教室
END:VEVENT
END:VCALENDAR
