BEGIN:VCALENDAR
VERSION:2.0
PRODID:-//chikkutakku.com//RDFCal 1.0//EN
X-WR-CALDESC:GoogleカレンダーやiCalendar形式情報を共有シェ
 アしましょう。近所のイベントから全国のイベントま
 で今日のイベント検索やスケジュールを決めるならち
 っくたっく
X-WR-CALNAME:ちっくたっく
X-WR-TIMEZONE:UTC
BEGIN:VEVENT
SUMMARY:【注】魔女の旅々 #1 魔女見習いイレイナ / #2 魔
 法使いの国 / #3 花のように可憐な彼女／瓶詰めの幸せ /
  #4 民なき国の王女 / #5 王立セレステリア / #6 正直者の
 国 / #7 旅人が刻む壁／ぶどう踏みの少女 / #8 切り裂き
 魔 / #9 遡る嘆き / #10 二人の師匠 / #11 二人の弟子 / #12 
 ありとあらゆるありふれた灰の魔女の物語
DTSTART;VALUE=DATE-TIME:20260421T230000Z
DTEND;VALUE=DATE-TIME:20260422T050000Z
UID:292940335174
DESCRIPTION: / #1 魔女見習いイレイナ / #2 魔法使いの国 / #3
  花のように可憐な彼女／瓶詰めの幸せ / #4 民なき国の
 王女 / #5 王立セレステリア / #6 正直者の国 / #7 旅人が
 刻む壁／ぶどう踏みの少女 / #8 切り裂き魔 / #9 遡る嘆
 き / #10 二人の師匠 / #11 二人の弟子 / #12 ありとあらゆ
 るありふれた灰の魔女の物語 / https://abema.tv/channels/late-n
 ight-anime/slots/EvABN8CvLmuXwD リピート放送は 26:00～ https://abe
 ma.tv/channels/late-night-anime/slots/EvABMX6ivwpoc3 (無料TS1週間)
LOCATION:深夜アニメ
END:VEVENT
END:VCALENDAR
