BEGIN:VCALENDAR
VERSION:2.0
PRODID:-//chikkutakku.com//RDFCal 1.0//EN
X-WR-CALDESC:GoogleカレンダーやiCalendar形式情報を共有シェ
 アしましょう。近所のイベントから全国のイベントま
 で今日のイベント検索やスケジュールを決めるならち
 っくたっく
X-WR-CALNAME:ちっくたっく
X-WR-TIMEZONE:UTC
BEGIN:VEVENT
SUMMARY:【新】杖と剣のウィストリア(2) #13 「境界の日」
DTSTART;VALUE=DATE-TIME:20260421T143000Z
DTEND;VALUE=DATE-TIME:20260421T150000Z
UID:293202963097
DESCRIPTION:13 / 境界の日 / 
LOCATION:BS日テレ
END:VEVENT
END:VCALENDAR
