BEGIN:VCALENDAR
VERSION:2.0
PRODID:-//chikkutakku.com//RDFCal 1.0//EN
X-WR-CALDESC:GoogleカレンダーやiCalendar形式情報を共有シェ
 アしましょう。近所のイベントから全国のイベントま
 で今日のイベント検索やスケジュールを決めるならち
 っくたっく
X-WR-CALNAME:ちっくたっく
X-WR-TIMEZONE:UTC
BEGIN:VEVENT
SUMMARY:米国会社四季報2026年版春夏号
DTSTART;VALUE=DATE:20260419
DTEND;VALUE=DATE:20260420
UID:293408193091
DESCRIPTION:2026-04-20米国会社四季報2026年版春夏号米国会社
 四季報編集部東洋経済新報社
LOCATION:
END:VEVENT
END:VCALENDAR
