BEGIN:VCALENDAR
VERSION:2.0
PRODID:-//chikkutakku.com//RDFCal 1.0//EN
X-WR-CALDESC:GoogleカレンダーやiCalendar形式情報を共有シェ
 アしましょう。近所のイベントから全国のイベントま
 で今日のイベント検索やスケジュールを決めるならち
 っくたっく
X-WR-CALNAME:ちっくたっく
X-WR-TIMEZONE:UTC
BEGIN:VEVENT
SUMMARY:一畳間まんきつ暮らし！ #3 「因縁！ 猫vsハリネ
 ズミ」
DTSTART;VALUE=DATE-TIME:20260425T171000Z
DTEND;VALUE=DATE-TIME:20260425T174000Z
UID:293463203835
DESCRIPTION:3 / 因縁！ 猫vsハリネズミ / 
LOCATION:テレビ朝日
END:VEVENT
END:VCALENDAR
