BEGIN:VCALENDAR
VERSION:2.0
PRODID:-//chikkutakku.com//RDFCal 1.0//EN
X-WR-CALDESC:GoogleカレンダーやiCalendar形式情報を共有シェ
 アしましょう。近所のイベントから全国のイベントま
 で今日のイベント検索やスケジュールを決めるならち
 っくたっく
X-WR-CALNAME:ちっくたっく
X-WR-TIMEZONE:UTC
BEGIN:VEVENT
SUMMARY:午前便真鯛狙いです　乗り合い定員になりました
 　有り難う御座いました。
DTSTART;VALUE=DATE-TIME:20260423T190000Z
DTEND;VALUE=DATE-TIME:20260424T010000Z
UID:293892311665
DESCRIPTION:午前便真鯛狙いです　乗り合い定員になりま
 した　有り難う御座いました。
LOCATION:
END:VEVENT
END:VCALENDAR
