BEGIN:VCALENDAR
VERSION:2.0
PRODID:-//chikkutakku.com//RDFCal 1.0//EN
X-WR-CALDESC:GoogleカレンダーやiCalendar形式情報を共有シェ
 アしましょう。近所のイベントから全国のイベントま
 で今日のイベント検索やスケジュールを決めるならち
 っくたっく
X-WR-CALNAME:ちっくたっく
X-WR-TIMEZONE:UTC
BEGIN:VEVENT
SUMMARY:油脂で語る近現代（1105）
DTSTART;VALUE=DATE:20260518
DTEND;VALUE=DATE:20260519
UID:294187829277
DESCRIPTION:2026-05-19油脂で語る近現代（1105）赤嶺 淳平凡
 社
LOCATION:
END:VEVENT
END:VCALENDAR
