BEGIN:VCALENDAR
VERSION:2.0
PRODID:-//chikkutakku.com//RDFCal 1.0//EN
X-WR-CALDESC:GoogleカレンダーやiCalendar形式情報を共有シェ
 アしましょう。近所のイベントから全国のイベントま
 で今日のイベント検索やスケジュールを決めるならち
 っくたっく
X-WR-CALNAME:ちっくたっく
X-WR-TIMEZONE:UTC
BEGIN:VEVENT
SUMMARY:団体
DTSTART;VALUE=DATE-TIME:20260426T010000Z
DTEND;VALUE=DATE-TIME:20260426T020000Z
UID:295561225769
DESCRIPTION:参加予定人数　２０名\n小雨決行（荒天中止）
 \n参加対象　メンバーのみ
LOCATION:逗子市　逗子
END:VEVENT
END:VCALENDAR
