BEGIN:VCALENDAR
VERSION:2.0
PRODID:-//chikkutakku.com//RDFCal 1.0//EN
X-WR-CALDESC:GoogleカレンダーやiCalendar形式情報を共有シェ
 アしましょう。近所のイベントから全国のイベントま
 で今日のイベント検索やスケジュールを決めるならち
 っくたっく
X-WR-CALNAME:ちっくたっく
X-WR-TIMEZONE:UTC
BEGIN:VEVENT
SUMMARY:VRCお砂糖相談カフェ「カーネリアン -Carnelian-」(
 毎週土曜日23時～翌1時)
DTSTART;VALUE=DATE-TIME:20260425T140000Z
DTEND;VALUE=DATE-TIME:20260425T160000Z
UID:295665436785
DESCRIPTION:【イベント主催者】\n　エレミエル\n【イベン
 ト内容】\n　「こたえは、あなたの中に。」を基本理念
 とした、お砂糖関係の相談ができるカフェ風イベント
 です。スタッフや他の参加者の方々と一緒に悩める恋
 に向き合ったり、のんびり自分の時間を過ごすことが
 できるのはもちろん、個室でスタッフと1˸1で話を聞い
 てもらうこともできます。（現実の恋愛相談はご遠慮
 いただいております。）\n【イベントジャンル】\n　そ
 の他交流会\, 定期イベント\n【参加条件（モデル、人数
 制限など）】\n　著作権上問題があったり、処理が重い
 もの、武器など暴力的要素が露骨に出ているもの、そ
 の他イベント内の治安が悪化する可能性があるアバタ
 ーでの参加は禁止です。警告しても改善されない場合
 、店主の判断によりBANの処置を取ることがあります。
 あらかじめご了承ください。\n【参加方法】\n　グルー
 プ+インスタンスでの開催になりますので、グループ(LAC
 C.7734)へご加入の上参加をよろしくお願いします。もし
 お砂糖やフレンド等に参加を知られたくない場合、入
 場前に必ずステータスをオレンジにしてください。\n【
 備考】\n　相談中、担当したスタッフの傾聴能力を超え
 る場合や横暴な態度でのやり取りがあった場合、スタ
 ッフの交代や相談を中止する場合があります。
LOCATION:
END:VEVENT
END:VCALENDAR
