BEGIN:VCALENDAR
VERSION:2.0
PRODID:-//chikkutakku.com//RDFCal 1.0//EN
X-WR-CALDESC:GoogleカレンダーやiCalendar形式情報を共有シェ
 アしましょう。近所のイベントから全国のイベントま
 で今日のイベント検索やスケジュールを決めるならち
 っくたっく
X-WR-CALNAME:ちっくたっく
X-WR-TIMEZONE:UTC
BEGIN:VEVENT
SUMMARY:(18時)桂文我の神保町秘密倶楽部
DTSTART;VALUE=DATE:20260508
DTEND;VALUE=DATE:20260509
UID:295964857403
DESCRIPTION:出演：桂文我「唐土模様倭枠子(2)」「こんな
 んメッケ」「噺家名人奇人談」「私アメリカ」\n開場​
 ：17時半・開演：18時\n料金：前売3500円　当日4000円\nご
 予約はらくごカ​フェまで\nrakugocafe@​hotm​ail.co.jp　\n
 電話03-6268-9818（​平日​12時～18時）
LOCATION:
END:VEVENT
END:VCALENDAR
