BEGIN:VCALENDAR
VERSION:2.0
PRODID:-//chikkutakku.com//RDFCal 1.0//EN
X-WR-CALDESC:GoogleカレンダーやiCalendar形式情報を共有シェ
 アしましょう。近所のイベントから全国のイベントま
 で今日のイベント検索やスケジュールを決めるならち
 っくたっく
X-WR-CALNAME:ちっくたっく
X-WR-TIMEZONE:UTC
BEGIN:VEVENT
SUMMARY:★U9★U11 U12★中小PM2年以下★T12全学年
DTSTART;VALUE=DATE:20260425
DTEND;VALUE=DATE:20260426
UID:295996938876
DESCRIPTION:★T12 全学年\n豊中12中ナイターGにて19:00〜20:45\
 n参加費300円\n駐車は近隣の有料Pをご利用下さい。\n\n★
 U9 TM\nJGREEN堺Ｓ14に16:00集合\n17:00〜18:30\n参加費\n🆚RIPACE\
 n\n★TODOROMI CUP  U11\nとどろみGに8:30集合\n参加費\n予選リ
 ーグ　15分ハーフ\n🆚デッカ 9:40  天然芝C\n🆚KSS  11:40  
 人工芝Ａ\n🆚高槻清水  13:40  天然芝C\n順位決定戦\n🆚  
              16:00\n\n★TODOROMI CUP U12\nとどろみGに9:30集合\n参
 加費\n予選リーグ　15分ハーフ\n🆚デッカ　10:20  天然芝
 D\n🆚大宮JSC  12:20  人工芝A\n🆚岩田FC  14:20  天然芝D\n順
 位決定戦\n🆚               16:40\n\n★中小PM2年以下\n中小に
 て16:00〜17:00\n駐車は近隣の有料Pをご利用下さい。
LOCATION:
END:VEVENT
END:VCALENDAR
