BEGIN:VCALENDAR
VERSION:2.0
PRODID:-//chikkutakku.com//RDFCal 1.0//EN
X-WR-CALDESC:GoogleカレンダーやiCalendar形式情報を共有シェ
 アしましょう。近所のイベントから全国のイベントま
 で今日のイベント検索やスケジュールを決めるならち
 っくたっく
X-WR-CALNAME:ちっくたっく
X-WR-TIMEZONE:UTC
BEGIN:VEVENT
SUMMARY:【学園型イベント】 VRCAcademy『メタモテ講座③”
 褒め上手”になろう！』
DTSTART;VALUE=DATE-TIME:20260426T130000Z
DTEND;VALUE=DATE-TIME:20260426T140000Z
UID:296782813601
DESCRIPTION:【イベント主催者】\n　VRCAcademy/結月ミノル先
 生\n【イベント内容】\n　一人ひとりの挑戦と成長を支
 える、学びと交流の学園型イベント『VRCAcademy』！\n\n202
 6年4月18日（土）〜5月1日（金）にて\n『第5期 講義集中
 期間』を開講中！\n\n得意分野を伸ばしたい方、次のス
 テップに挑戦したい方、\nVRChatでの活動を始めたい方へ
 。\nVRCAcademyでは、志を同じくする仲間と出会い、\n講義
 を通して“将来の進路を見つけるきっかけ”を提供す
 る学園型イベントです。\n\n本講義では、結月ミノル先
 生による『メタモテ講座③”褒め上手”になろう！』
 を実施！\nモテる人は「褒め上手」！\n今日から使える
 、実践的な「褒める」スキルを学ぶことができます。
 「ついやってしまう、NGな褒め方」も含めて、現役スク
 ールカウンセラーが専門用語を使わずに分かりやすく
 解説します。\n\nどなたでもご参加いただけます！\n【
 イベントジャンル】\n　その他交流会\n【参加条件（モ
 デル、人数制限など）】\n　・入学申し込み／抽選／出
 席条件すべて不要！どなたでも参加OK！\n・インスタン
 ス上限：40名（満員の場合は参加不可）\n・軽量アバタ
 ー（0ポリ／Poor以下）への変更をお願いする場合があり
 ます\n\n【禁止事項】\n・VRChat規約に反するアバターの
 使用\n・爆音／視界ジャックなど迷惑行為\n・差別／セ
 クハラ／誹謗中傷などの行為\n・無許可での録音・録画
 （※撮影は講義ごとのルールに準拠）\n【参加方法】\n
 　① グループ『【公式】VRCAcademy（ID：VRCAO.5583）』に参
 加\nhttps://vrc.group/VRCAO.5583\n\n② 当日、Group＋インスタン
 スにJoin\n【備考】\n　詳細は公式Xをご確認ください！\n
 https://x.com/VRC_Academy/status/2038906238977941796?s=20\n公式X：https
 ://x.com/VRC_Academy
LOCATION:
END:VEVENT
END:VCALENDAR
