BEGIN:VCALENDAR
VERSION:2.0
PRODID:-//chikkutakku.com//RDFCal 1.0//EN
X-WR-CALDESC:GoogleカレンダーやiCalendar形式情報を共有シェ
 アしましょう。近所のイベントから全国のイベントま
 で今日のイベント検索やスケジュールを決めるならち
 っくたっく
X-WR-CALNAME:ちっくたっく
X-WR-TIMEZONE:UTC
BEGIN:VEVENT
SUMMARY:นพ.สสจ.เป็นประธานเปิดกา
 รประชุมขับเคลื่อนการดำเน
 ินงานพัฒนาระบบเฝ้าระวังค
 ุณภาพน้ำปะปาหมู่บ้านตามแ
 นวทาง3C( Clear Clean Chlorine)
DTSTART;VALUE=DATE-TIME:20260423T021500Z
DTEND;VALUE=DATE-TIME:20260423T031500Z
UID:297144441478
DESCRIPTION:นพ.สสจ.เป็นประธานเปิดก
 ารประชุมขับเคลื่อนการดำเ
 นินงานพัฒนาระบบเฝ้าระวัง
 คุณภาพน้ำปะปาหมู่บ้านตาม
 แนวทาง3C( Clear Clean Chlorine)
LOCATION:ห้องพ่อขุนผาเมือง ชั้น6
  อาคารเพชบุระ สสจ.เพชรบูรณ
 ์\nถนนนิกรบำรุง\nจ.เพชรบูรณ์
 \nเพชรบูรณ์ 67000\nประเทศไทย
END:VEVENT
END:VCALENDAR
