BEGIN:VCALENDAR
VERSION:2.0
PRODID:-//chikkutakku.com//RDFCal 1.0//EN
X-WR-CALDESC:GoogleカレンダーやiCalendar形式情報を共有シェ
 アしましょう。近所のイベントから全国のイベントま
 で今日のイベント検索やスケジュールを決めるならち
 っくたっく
X-WR-CALNAME:ちっくたっく
X-WR-TIMEZONE:UTC
BEGIN:VEVENT
SUMMARY:(พจ./ผอ.กง.ส่งเสริมฯ/นักวิ
 ชาการ) ร่วมกิจกรรมตามโครงก
 ารจังหวัดเคลื่อนที่ และหน
 ่วยแพทย์เคลื่อนที่ พอ.สว. ณ 
 โรงเรียนวรคุณอุปถัมภ์  ตำบ
 ลหนองใหญ่ อำเภอเมืองจันทร
 ์ การแต่งกาย สวมเสื้อ พอ.สว.
DTSTART;VALUE=DATE-TIME:20260423T010000Z
DTEND;VALUE=DATE-TIME:20260423T050000Z
UID:297211553767
DESCRIPTION:(พจ./ผอ.กง.ส่งเสริมฯ/นัก
 วิชาการ) ร่วมกิจกรรมตามโคร
 งการจังหวัดเคลื่อนที่ และ
 หน่วยแพทย์เคลื่อนที่ พอ.สว
 . ณ โรงเรียนวรคุณอุปถัมภ์  ต
 ำบลหนองใหญ่ อำเภอเมืองจัน
 ทร์ การแต่งกาย สวมเสื้อ พอ.
 สว.
LOCATION:
END:VEVENT
END:VCALENDAR
