BEGIN:VCALENDAR
VERSION:2.0
PRODID:-//chikkutakku.com//RDFCal 1.0//EN
X-WR-CALDESC:GoogleカレンダーやiCalendar形式情報を共有シェ
 アしましょう。近所のイベントから全国のイベントま
 で今日のイベント検索やスケジュールを決めるならち
 っくたっく
X-WR-CALNAME:ちっくたっく
X-WR-TIMEZONE:UTC
BEGIN:VEVENT
SUMMARY:5600歳の不老不死インフルエンサーいわく。 1
DTSTART;VALUE=DATE:20260419
DTEND;VALUE=DATE:20260420
UID:297304967152
DESCRIPTION:2026-04-205600歳の不老不死インフルエンサーいわ
 く。 1洋介犬秋田書店
LOCATION:
END:VEVENT
END:VCALENDAR
