BEGIN:VCALENDAR
VERSION:2.0
PRODID:-//chikkutakku.com//RDFCal 1.0//EN
X-WR-CALDESC:GoogleカレンダーやiCalendar形式情報を共有シェ
 アしましょう。近所のイベントから全国のイベントま
 で今日のイベント検索やスケジュールを決めるならち
 っくたっく
X-WR-CALNAME:ちっくたっく
X-WR-TIMEZONE:UTC
BEGIN:VEVENT
SUMMARY:【初見さん・初心者さん歓迎】Club Time-Lapse Den
DTSTART;VALUE=DATE-TIME:20260421T150000Z
DTEND;VALUE=DATE-TIME:20260421T170000Z
UID:298100288191
DESCRIPTION:【イベント主催者】\n　H.U.T GiGAR\n【イベント
 内容】\n　常駐キャスト達と話をしながら多ジャンルな
 クラブミュージックを中心に流すDJイベントです。\nVRC
 のイベントに行くのが初めてという方も、DJに興味があ
 るけどよく分からないという方も大歓迎です。\n音楽好
 きもお話好きもわいわい楽しみましょう！\n【イベント
 ジャンル】\n　音楽系イベント\, 初心者向けイベント\, 
 定期イベント\n【参加条件（モデル、人数制限など）】
 \n　配信・録音はご遠慮ください。写真撮影は大歓迎で
 す！\n他人の迷惑になるような行為はご遠慮ください。
 \n【参加方法】\n　グループに参加の後、Joinをお願いし
 ます\n【備考】\n　https://vrchat.com/home/group/grp_c80c276b-789a-4
 ed0-bf4f-2aa1ea0cc5ae
LOCATION:
END:VEVENT
END:VCALENDAR
