BEGIN:VCALENDAR
VERSION:2.0
PRODID:-//chikkutakku.com//RDFCal 1.0//EN
X-WR-CALDESC:GoogleカレンダーやiCalendar形式情報を共有シェ
 アしましょう。近所のイベントから全国のイベントま
 で今日のイベント検索やスケジュールを決めるならち
 っくたっく
X-WR-CALNAME:ちっくたっく
X-WR-TIMEZONE:UTC
BEGIN:VEVENT
SUMMARY:れうくん喫茶「サラサ・イリニス」
DTSTART;VALUE=DATE-TIME:20260423T130000Z
DTEND;VALUE=DATE-TIME:20260423T140000Z
UID:298186006428
DESCRIPTION:【イベント主催者】\n　Rau Celestite\n【イベント
 内容】\n　キャスト全員がうにゃうにゃぽんぽんアバタ
 ー『れう』の接客イベント\n【イベントジャンル】\n　
 その他交流会\, 店舗系イベント\, 初心者向けイベント\,
  定期イベント\n【参加条件（モデル、人数制限など）
 】\n　50MB以下のアバター\n【参加方法】\n　イベントグ
 ループ https://vrc.group/LEU.4374 に参加＆JOIN\n【備考】\n　ht
 tps://x.com/LEUCafe_VRC
LOCATION:
END:VEVENT
END:VCALENDAR
