BEGIN:VCALENDAR
VERSION:2.0
PRODID:-//chikkutakku.com//RDFCal 1.0//EN
X-WR-CALDESC:GoogleカレンダーやiCalendar形式情報を共有シェ
 アしましょう。近所のイベントから全国のイベントま
 で今日のイベント検索やスケジュールを決めるならち
 っくたっく
X-WR-CALNAME:ちっくたっく
X-WR-TIMEZONE:UTC
BEGIN:VEVENT
SUMMARY:異世界でスキルを解体したらチートな嫁が増殖し
 ました 概念交差のストラクチャー(16)
DTSTART;VALUE=DATE:20260507
DTEND;VALUE=DATE:20260508
UID:298687173209
DESCRIPTION:2026-05-08異世界でスキルを解体したらチートな
 嫁が増殖しました 概念交差のストラクチャー(16)カタセ
 ミナミ/千月さかき/東西KADOKAWA
LOCATION:
END:VEVENT
END:VCALENDAR
