BEGIN:VCALENDAR
VERSION:2.0
PRODID:-//chikkutakku.com//RDFCal 1.0//EN
X-WR-CALDESC:GoogleカレンダーやiCalendar形式情報を共有シェ
 アしましょう。近所のイベントから全国のイベントま
 で今日のイベント検索やスケジュールを決めるならち
 っくたっく
X-WR-CALNAME:ちっくたっく
X-WR-TIMEZONE:UTC
BEGIN:VEVENT
SUMMARY:【オールジャンル】CLUB孔雀 013【DJイベント】
DTSTART;VALUE=DATE-TIME:20260421T120000Z
DTEND;VALUE=DATE-TIME:20260421T140000Z
UID:298758962220
DESCRIPTION:【イベント主催者】\n　クジャク\n【イベント
 内容】\n　オールジャンルDJイベント\nCLUB孔雀　013\n所
 属クルーMAMA-KUNのバースデーバッシュ！\n（お誕生日パ
 ーティーのこと）\nどなた様でもお気軽に！\n【イベン
 トジャンル】\n　音楽系イベント\, 初心者向けイベント
 \, 定期イベント\n【参加条件（モデル、人数制限など）
 】\n　45MB以下推奨　70名　グループルールを守れる方\n
 【参加方法】\n　CLUB孔雀のグループに参加\nhttps://vrc.gro
 up/KUJAKU.7124\n時間になったらインスタンスへJOINして下さ
 い\n【備考】\n　
LOCATION:
END:VEVENT
END:VCALENDAR
