BEGIN:VCALENDAR
VERSION:2.0
PRODID:-//chikkutakku.com//RDFCal 1.0//EN
X-WR-CALDESC:GoogleカレンダーやiCalendar形式情報を共有シェ
 アしましょう。近所のイベントから全国のイベントま
 で今日のイベント検索やスケジュールを決めるならち
 っくたっく
X-WR-CALNAME:ちっくたっく
X-WR-TIMEZONE:UTC
BEGIN:VEVENT
SUMMARY:サクセスガイド世界史探究 まとめ・演習・資料
 読解
DTSTART;VALUE=DATE:20260426
DTEND;VALUE=DATE:20260427
UID:299060128392
DESCRIPTION:2026-04-27サクセスガイド世界史探究 まとめ・演
 習・資料読解佐藤 慎也/常泉 大介/藤井 真州/横田 成洋
 山川出版社
LOCATION:
END:VEVENT
END:VCALENDAR
