BEGIN:VCALENDAR
VERSION:2.0
PRODID:-//chikkutakku.com//RDFCal 1.0//EN
X-WR-CALDESC:GoogleカレンダーやiCalendar形式情報を共有シェ
 アしましょう。近所のイベントから全国のイベントま
 で今日のイベント検索やスケジュールを決めるならち
 っくたっく
X-WR-CALNAME:ちっくたっく
X-WR-TIMEZONE:UTC
BEGIN:VEVENT
SUMMARY:Walt Disney‘sクラシック絵本 「バニーおじいちゃ
 んの秘密」
DTSTART;VALUE=DATE:20260512
DTEND;VALUE=DATE:20260513
UID:299092393354
DESCRIPTION:2026-05-13Walt Disney‘sクラシック絵本 「バニーお
 じいちゃんの秘密」ジェーン・ワーナー/ウォルト・デ
 ィズニー・スタジオ/もき かずこ/うさぎ出版/なみぼし 
 はなこ波星社
LOCATION:
END:VEVENT
END:VCALENDAR
