BEGIN:VCALENDAR
VERSION:2.0
PRODID:-//chikkutakku.com//RDFCal 1.0//EN
X-WR-CALDESC:GoogleカレンダーやiCalendar形式情報を共有シェ
 アしましょう。近所のイベントから全国のイベントま
 で今日のイベント検索やスケジュールを決めるならち
 っくたっく
X-WR-CALNAME:ちっくたっく
X-WR-TIMEZONE:UTC
BEGIN:VEVENT
SUMMARY:Lions Zone Beer & Wine Tasting 
DTSTART;VALUE=DATE-TIME:20260425T230000Z
DTEND;VALUE=DATE-TIME:20260426T020000Z
UID:300015791684
DESCRIPTION:$30 in advance\, $35 at the door. Register online @oakcreeklio
 ns.com before April 24! Raffles and many drinks to taste! This joint fundr
 aiser includes Lions from Cudahy\, St. Francis\, S. Milwaukee and Bay View
 !
LOCATION:3476 E Howard Ave\, St Francis\, WI 53235-4732\, United States
END:VEVENT
END:VCALENDAR
