BEGIN:VCALENDAR
VERSION:2.0
PRODID:-//chikkutakku.com//RDFCal 1.0//EN
X-WR-CALDESC:GoogleカレンダーやiCalendar形式情報を共有シェ
 アしましょう。近所のイベントから全国のイベントま
 で今日のイベント検索やスケジュールを決めるならち
 っくたっく
X-WR-CALNAME:ちっくたっく
X-WR-TIMEZONE:UTC
BEGIN:VEVENT
SUMMARY:St.Qawme
DTSTART;VALUE=DATE-TIME:20260430T183000Z
DTEND;VALUE=DATE-TIME:20260501T183000Z
UID:300108035852
DESCRIPTION:St. Qawme (Mar Kauma). Mar Kauma stands as a luminous star\, i
 n the heavenly abode of Saints &amp\; Prophets. His strenuous ways of life
  &amp\; consistency in faith for God has bought him the title ‘the angel
  of earth’. The word ‘Kauma’ means ‘standing in an erect position
 ’. He prayed in the shape of a cross on a tree &amp\; hence got the name
  ‘Kauma’. He spent 45 years of his life in this position under solitud
 e\, having little food to sustain life.Summarized biography of St. Qawme:&
 nbsp\;https://tinyurl.com/5x3kdatw&nbsp\;Biography of St. Qawme in Malayal
 am:&nbsp\;https://tinyurl.com/yn2s8657&nbsp\;
LOCATION:
END:VEVENT
END:VCALENDAR
