BEGIN:VCALENDAR
VERSION:2.0
PRODID:-//chikkutakku.com//RDFCal 1.0//EN
X-WR-CALDESC:GoogleカレンダーやiCalendar形式情報を共有シェ
 アしましょう。近所のイベントから全国のイベントま
 で今日のイベント検索やスケジュールを決めるならち
 っくたっく
X-WR-CALNAME:ちっくたっく
X-WR-TIMEZONE:UTC
BEGIN:VEVENT
SUMMARY:追加練習Additional class for black belt test takers and black 
 belt 黒帯審査練習と黒帯の形練習
DTSTART;VALUE=DATE-TIME:20260428T113000Z
DTEND;VALUE=DATE-TIME:20260428T120000Z
UID:300499320114
DESCRIPTION:追加練習Additional class for black belt test takers and bl
 ack belt 黒帯審査練習と黒帯の形練習
LOCATION:江戸川区立清新ふたば小学校\, 日本、〒134-0087 
 東京都江戸川区清新町１丁目１−３８ 江戸川区立清新
 ふたば小学校
END:VEVENT
END:VCALENDAR
