BEGIN:VCALENDAR
VERSION:2.0
PRODID:-//chikkutakku.com//RDFCal 1.0//EN
X-WR-CALDESC:GoogleカレンダーやiCalendar形式情報を共有シェ
 アしましょう。近所のイベントから全国のイベントま
 で今日のイベント検索やスケジュールを決めるならち
 っくたっく
X-WR-CALNAME:ちっくたっく
X-WR-TIMEZONE:UTC
BEGIN:VEVENT
SUMMARY:【Android 対応】はこだま ボードゲーム ＶＲ プレ
 イ会＆初心者講習会
DTSTART;VALUE=DATE-TIME:20260422T130000Z
DTEND;VALUE=DATE-TIME:20260422T143000Z
UID:300693350266
DESCRIPTION:【イベント主催者】\n　SpyroBlacky\n【イベント
 内容】\n　VRChatで遊べるボードゲーム「はこだま ボー
 ドゲーム ＶＲ」をみんなで遊ぶ集会です！\n\n陣形と攻
 撃範囲がカギを握る、１対１の対戦型ボードゲームで
 す。\n３匹のケモノキャラクターを選んでチームを編成
 し、先に相手のチーム全員をやっつけたほうが勝ち！\n
 \nはじめての方には遊び方レクチャーもさせていただき
 ます！\n【イベントジャンル】\n　その他交流会\n【参
 加条件（モデル、人数制限など）】\n　おひとりさまで
 も、おともだちと一緒でもOK！\n節度を持ったアバター
 の利用をお願いします\n【参加方法】\n　時間になると
 、インスタンスがグループパブリックで開きますので
 、お気軽に Join してください。\nグループ「はこだまボ
 ドゲフレンズ」（HKDMBG.5153）に参加しておくと、見逃し
 がないです！\n【備考】\n　
LOCATION:
END:VEVENT
END:VCALENDAR
