BEGIN:VCALENDAR
VERSION:2.0
PRODID:-//chikkutakku.com//RDFCal 1.0//EN
X-WR-CALDESC:GoogleカレンダーやiCalendar形式情報を共有シェ
 アしましょう。近所のイベントから全国のイベントま
 で今日のイベント検索やスケジュールを決めるならち
 っくたっく
X-WR-CALNAME:ちっくたっく
X-WR-TIMEZONE:UTC
BEGIN:VEVENT
SUMMARY:MUSIC | World in Union Concert (Whole school)
DTSTART;VALUE=DATE-TIME:20260506T163000Z
DTEND;VALUE=DATE-TIME:20260506T183000Z
UID:300992759793
DESCRIPTION:World in Union flyer.jpg
LOCATION:Dutch Reformed Church Helderberg\, 82 Firmount Road\, Goede Hoop\
 , Cape Town\, 7130\, South Africa
END:VEVENT
END:VCALENDAR
