BEGIN:VCALENDAR
VERSION:2.0
PRODID:-//chikkutakku.com//RDFCal 1.0//EN
X-WR-CALDESC:GoogleカレンダーやiCalendar形式情報を共有シェ
 アしましょう。近所のイベントから全国のイベントま
 で今日のイベント検索やスケジュールを決めるならち
 っくたっく
X-WR-CALNAME:ちっくたっく
X-WR-TIMEZONE:UTC
BEGIN:VEVENT
SUMMARY:第三回あかぴっぴみしみしがめ集会
DTSTART;VALUE=DATE-TIME:20260423T120000Z
DTEND;VALUE=DATE-TIME:20260423T133000Z
UID:301376748025
DESCRIPTION:【イベント主催者】\n　TheNightFox\n【イベント
 内容】\n　グループ主のTシャツから始まった謎グルー
 プ、あかぴっぴみしみしがめが１０００人記念にイベ
 ント化しましたぁ！\n参加の際はグループ＜PIPPI.2902＞
 へ参加、もしくは主催「TheNightFox」にフレンド申請を送
 ってください！\nこのイベントでは集まってお話しする
 だけでなく、ちょっとしたミニゲームやプライズがあ
 るのでぜひ遊んで行ってください！\n【イベントジャン
 ル】\n　その他交流会\, 初心者向けイベント\, 定期イベ
 ント\n【参加条件（モデル、人数制限など）】\n　アバ
 ター容量40MB未満、最大50人\n【参加方法】\n　グループ
 「あかぴっぴみしみしがめ」＜PIPPI.2902＞へ参加\nor\n主
 催「TheNightFox」へフレンド申請！\n時間になったらイン
 スタンスを開くので気軽にご参加ください！\n【備考】
 \n　
LOCATION:
END:VEVENT
END:VCALENDAR
