BEGIN:VCALENDAR
VERSION:2.0
PRODID:-//chikkutakku.com//RDFCal 1.0//EN
X-WR-CALDESC:GoogleカレンダーやiCalendar形式情報を共有シェ
 アしましょう。近所のイベントから全国のイベントま
 で今日のイベント検索やスケジュールを決めるならち
 っくたっく
X-WR-CALNAME:ちっくたっく
X-WR-TIMEZONE:UTC
BEGIN:VEVENT
SUMMARY:World Day for Cultural Diversity for Dialogue and Development
DTSTART;VALUE=DATE-TIME:20260520T230000Z
DTEND;VALUE=DATE-TIME:20260521T230000Z
UID:301447580845
DESCRIPTION:n 2001\, UNESCO adopted the Universal Declaration on Cultural 
 Diversity and in December 2002\, the UN General Assembly\, in its resoluti
 on 57/249\, declared May 21 to be the World Day for Cultural Diversity for
  Dialogue and Development.\n\nThe day provides us with an opportunity to d
 eepen our understanding of the values of cultural diversity and to learn t
 o live together better.\n\nRead more at: http://www.un.org/en/events/cultu
 raldiversityday/
LOCATION:
END:VEVENT
END:VCALENDAR
